BEGIN:VCALENDAR
VERSION:2.0
PRODID:-//King Memorial Library - ECPv6.15.20//NONSGML v1.0//EN
CALSCALE:GREGORIAN
METHOD:PUBLISH
X-WR-CALNAME:King Memorial Library
X-ORIGINAL-URL:https://machiaslibrary.org
X-WR-CALDESC:Events for King Memorial Library
REFRESH-INTERVAL;VALUE=DURATION:PT1H
X-Robots-Tag:noindex
X-PUBLISHED-TTL:PT1H
BEGIN:VTIMEZONE
TZID:America/New_York
BEGIN:DAYLIGHT
TZOFFSETFROM:-0500
TZOFFSETTO:-0400
TZNAME:EDT
DTSTART:20250309T070000
END:DAYLIGHT
BEGIN:STANDARD
TZOFFSETFROM:-0400
TZOFFSETTO:-0500
TZNAME:EST
DTSTART:20251102T060000
END:STANDARD
BEGIN:DAYLIGHT
TZOFFSETFROM:-0500
TZOFFSETTO:-0400
TZNAME:EDT
DTSTART:20260308T070000
END:DAYLIGHT
BEGIN:STANDARD
TZOFFSETFROM:-0400
TZOFFSETTO:-0500
TZNAME:EST
DTSTART:20261101T060000
END:STANDARD
BEGIN:DAYLIGHT
TZOFFSETFROM:-0500
TZOFFSETTO:-0400
TZNAME:EDT
DTSTART:20270314T070000
END:DAYLIGHT
BEGIN:STANDARD
TZOFFSETFROM:-0400
TZOFFSETTO:-0500
TZNAME:EST
DTSTART:20271107T060000
END:STANDARD
END:VTIMEZONE
BEGIN:VEVENT
DTSTART;VALUE=DATE:20260403
DTEND;VALUE=DATE:20260404
DTSTAMP:20260423T134948
CREATED:20260107T145718Z
LAST-MODIFIED:20260325T132346Z
UID:934-1775174400-1775260799@machiaslibrary.org
SUMMARY:Closed for Good Friday
DESCRIPTION:Closed for Good Friday.
URL:https://machiaslibrary.org/event/good-friday/
CATEGORIES:Closings
END:VEVENT
BEGIN:VEVENT
DTSTART;TZID=America/New_York:20260401T180000
DTEND;TZID=America/New_York:20260401T200000
DTSTAMP:20260423T134948
CREATED:20260302T143541Z
LAST-MODIFIED:20260302T143541Z
UID:1119-1775066400-1775073600@machiaslibrary.org
SUMMARY:Weekly Sewing Circle
DESCRIPTION:Free Event. \nGroups Sew-alongs or individual projects. \nBeginners Welcome!
URL:https://machiaslibrary.org/event/weekly-sewing-circle-13/
CATEGORIES:Events
END:VEVENT
BEGIN:VEVENT
DTSTART;TZID=America/New_York:20260325T180000
DTEND;TZID=America/New_York:20260325T200000
DTSTAMP:20260423T134948
CREATED:20260130T140530Z
LAST-MODIFIED:20260130T140530Z
UID:965-1774461600-1774468800@machiaslibrary.org
SUMMARY:Weekly Sewing Circle
DESCRIPTION:Free Event. \nGroups Sew-alongs or individual projects. \nBeginners Welcome!
URL:https://machiaslibrary.org/event/weekly-sewing-circle-12/
CATEGORIES:Events
END:VEVENT
BEGIN:VEVENT
DTSTART;TZID=America/New_York:20260318T180000
DTEND;TZID=America/New_York:20260318T200000
DTSTAMP:20260423T134948
CREATED:20260130T140445Z
LAST-MODIFIED:20260130T140445Z
UID:963-1773856800-1773864000@machiaslibrary.org
SUMMARY:Weekly Sewing Circle
DESCRIPTION:Free Event. \nGroups Sew-alongs or individual projects. \nBeginners Welcome!
URL:https://machiaslibrary.org/event/weekly-sewing-circle-11/
CATEGORIES:Events
END:VEVENT
BEGIN:VEVENT
DTSTART;TZID=America/New_York:20260311T180000
DTEND;TZID=America/New_York:20260311T200000
DTSTAMP:20260423T134948
CREATED:20260130T140354Z
LAST-MODIFIED:20260130T140354Z
UID:961-1773252000-1773259200@machiaslibrary.org
SUMMARY:Weekly Sewing Circle
DESCRIPTION:Free Event. \nGroups Sew-alongs or individual projects. \nBeginners Welcome!
URL:https://machiaslibrary.org/event/weekly-sewing-circle-10/
CATEGORIES:Events
END:VEVENT
BEGIN:VEVENT
DTSTART;TZID=America/New_York:20260304T180000
DTEND;TZID=America/New_York:20260304T200000
DTSTAMP:20260423T134948
CREATED:20260130T140257Z
LAST-MODIFIED:20260130T140257Z
UID:959-1772647200-1772654400@machiaslibrary.org
SUMMARY:Weekly Sewing Circle
DESCRIPTION:Free Event. \nGroups Sew-alongs or individual projects. \nBeginners Welcome!
URL:https://machiaslibrary.org/event/weekly-sewing-circle-9/
CATEGORIES:Events
END:VEVENT
BEGIN:VEVENT
DTSTART;TZID=America/New_York:20260225T180000
DTEND;TZID=America/New_York:20260225T200000
DTSTAMP:20260423T134948
CREATED:20260106T215258Z
LAST-MODIFIED:20260106T215258Z
UID:932-1772042400-1772049600@machiaslibrary.org
SUMMARY:Weekly Sewing Circle
DESCRIPTION:Free Event. \nGroups Sew-alongs or individual projects. \nBeginners Welcome!
URL:https://machiaslibrary.org/event/weekly-sewing-circle-8/
CATEGORIES:Events
END:VEVENT
BEGIN:VEVENT
DTSTART;TZID=America/New_York:20260218T180000
DTEND;TZID=America/New_York:20260218T200000
DTSTAMP:20260423T134948
CREATED:20260106T215202Z
LAST-MODIFIED:20260106T215202Z
UID:930-1771437600-1771444800@machiaslibrary.org
SUMMARY:Weekly Sewing Circle
DESCRIPTION:Free Event. \nGroups Sew-alongs or individual projects. \nBeginners Welcome!
URL:https://machiaslibrary.org/event/weekly-sewing-circle-7/
CATEGORIES:Events
END:VEVENT
BEGIN:VEVENT
DTSTART;VALUE=DATE:20260216
DTEND;VALUE=DATE:20260217
DTSTAMP:20260423T134948
CREATED:20260106T215026Z
LAST-MODIFIED:20260106T215026Z
UID:928-1771200000-1771286399@machiaslibrary.org
SUMMARY:Closed for Presidents' Day
DESCRIPTION:We are closed for Presidents’ Day.
URL:https://machiaslibrary.org/event/closed-for-presidents-day/
CATEGORIES:Closings
END:VEVENT
BEGIN:VEVENT
DTSTART;TZID=America/New_York:20260211T180000
DTEND;TZID=America/New_York:20260211T200000
DTSTAMP:20260423T134948
CREATED:20260106T214929Z
LAST-MODIFIED:20260106T214929Z
UID:926-1770832800-1770840000@machiaslibrary.org
SUMMARY:Weekly Sewing Circle
DESCRIPTION:Free Event. \nGroups Sew-alongs or individual projects. \nBeginners Welcome!
URL:https://machiaslibrary.org/event/weekly-sewing-circle-6/
CATEGORIES:Events
END:VEVENT
BEGIN:VEVENT
DTSTART;TZID=America/New_York:20260204T180000
DTEND;TZID=America/New_York:20260204T200000
DTSTAMP:20260423T134948
CREATED:20260106T214852Z
LAST-MODIFIED:20260106T214852Z
UID:924-1770228000-1770235200@machiaslibrary.org
SUMMARY:Weekly Sewing Circle
DESCRIPTION:Free Event. \nGroups Sew-alongs or individual projects. \nBeginners Welcome!
URL:https://machiaslibrary.org/event/weekly-sewing-circle-5/
CATEGORIES:Events
END:VEVENT
BEGIN:VEVENT
DTSTART;TZID=America/New_York:20260128T180000
DTEND;TZID=America/New_York:20260128T200000
DTSTAMP:20260423T134948
CREATED:20260106T214812Z
LAST-MODIFIED:20260106T214812Z
UID:922-1769623200-1769630400@machiaslibrary.org
SUMMARY:Weekly Sewing Circle
DESCRIPTION:Free Event. \nGroups Sew-alongs or individual projects. \nBeginners Welcome!
URL:https://machiaslibrary.org/event/weekly-sewing-circle-4/
CATEGORIES:Events
END:VEVENT
BEGIN:VEVENT
DTSTART;TZID=America/New_York:20260121T180000
DTEND;TZID=America/New_York:20260121T200000
DTSTAMP:20260423T134948
CREATED:20260106T214520Z
LAST-MODIFIED:20260106T214520Z
UID:920-1769018400-1769025600@machiaslibrary.org
SUMMARY:Weekly Sewing Circle
DESCRIPTION:Free Event. \nGroups Sew-alongs or individual projects. \nBeginners Welcome!
URL:https://machiaslibrary.org/event/weekly-sewing-circle-3/
CATEGORIES:Events
END:VEVENT
BEGIN:VEVENT
DTSTART;VALUE=DATE:20260119
DTEND;VALUE=DATE:20260120
DTSTAMP:20260423T134948
CREATED:20260106T213609Z
LAST-MODIFIED:20260106T213758Z
UID:914-1768780800-1768867199@machiaslibrary.org
SUMMARY:Closed for MLK\, Jr. Day
DESCRIPTION:We are closed for Martin Luther King\, Jr. Day.
URL:https://machiaslibrary.org/event/closed-for-mlk-jr-day/
CATEGORIES:Closings
END:VEVENT
BEGIN:VEVENT
DTSTART;TZID=America/New_York:20260114T180000
DTEND;TZID=America/New_York:20260114T200000
DTSTAMP:20260423T134948
CREATED:20260106T214425Z
LAST-MODIFIED:20260106T214425Z
UID:918-1768413600-1768420800@machiaslibrary.org
SUMMARY:Weekly Sewing Circle
DESCRIPTION:Free Event. \nGroups Sew-alongs or individual projects. \nBeginners Welcome!
URL:https://machiaslibrary.org/event/weekly-sewing-circle-2/
CATEGORIES:Events
END:VEVENT
BEGIN:VEVENT
DTSTART;TZID=America/New_York:20260107T180000
DTEND;TZID=America/New_York:20260107T200000
DTSTAMP:20260423T134948
CREATED:20260106T214159Z
LAST-MODIFIED:20260106T214159Z
UID:916-1767808800-1767816000@machiaslibrary.org
SUMMARY:Weekly Sewing Circle
DESCRIPTION:Free Event. \nGroups Sew-alongs or individual projects. \nBeginners Welcome!
URL:https://machiaslibrary.org/event/weekly-sewing-circle/
CATEGORIES:Events
END:VEVENT
END:VCALENDAR