BEGIN:VCALENDAR
VERSION:2.0
PRODID:-//King Memorial Library - ECPv6.15.20//NONSGML v1.0//EN
CALSCALE:GREGORIAN
METHOD:PUBLISH
X-ORIGINAL-URL:https://machiaslibrary.org
X-WR-CALDESC:Events for King Memorial Library
REFRESH-INTERVAL;VALUE=DURATION:PT1H
X-Robots-Tag:noindex
X-PUBLISHED-TTL:PT1H
BEGIN:VTIMEZONE
TZID:America/New_York
BEGIN:DAYLIGHT
TZOFFSETFROM:-0500
TZOFFSETTO:-0400
TZNAME:EDT
DTSTART:20250309T070000
END:DAYLIGHT
BEGIN:STANDARD
TZOFFSETFROM:-0400
TZOFFSETTO:-0500
TZNAME:EST
DTSTART:20251102T060000
END:STANDARD
BEGIN:DAYLIGHT
TZOFFSETFROM:-0500
TZOFFSETTO:-0400
TZNAME:EDT
DTSTART:20260308T070000
END:DAYLIGHT
BEGIN:STANDARD
TZOFFSETFROM:-0400
TZOFFSETTO:-0500
TZNAME:EST
DTSTART:20261101T060000
END:STANDARD
BEGIN:DAYLIGHT
TZOFFSETFROM:-0500
TZOFFSETTO:-0400
TZNAME:EDT
DTSTART:20270314T070000
END:DAYLIGHT
BEGIN:STANDARD
TZOFFSETFROM:-0400
TZOFFSETTO:-0500
TZNAME:EST
DTSTART:20271107T060000
END:STANDARD
END:VTIMEZONE
BEGIN:VEVENT
DTSTART;TZID=America/New_York:20260506T180000
DTEND;TZID=America/New_York:20260506T200000
DTSTAMP:20260423T111408
CREATED:20260409T141335Z
LAST-MODIFIED:20260409T141335Z
UID:1147-1778090400-1778097600@machiaslibrary.org
SUMMARY:Weekly Sewing Circle
DESCRIPTION:Free Event. \nGroups Sew-alongs or individual projects. \nBeginners Welcome!
URL:https://machiaslibrary.org/event/weekly-sewing-circle-18/
CATEGORIES:Events
END:VEVENT
BEGIN:VEVENT
DTSTART;TZID=America/New_York:20260513T180000
DTEND;TZID=America/New_York:20260513T200000
DTSTAMP:20260423T111408
CREATED:20260409T141407Z
LAST-MODIFIED:20260409T141407Z
UID:1149-1778695200-1778702400@machiaslibrary.org
SUMMARY:Weekly Sewing Circle
DESCRIPTION:Free Event. \nGroups Sew-alongs or individual projects. \nBeginners Welcome!
URL:https://machiaslibrary.org/event/weekly-sewing-circle-19/
CATEGORIES:Events
END:VEVENT
BEGIN:VEVENT
DTSTART;TZID=America/New_York:20260520T180000
DTEND;TZID=America/New_York:20260520T200000
DTSTAMP:20260423T111408
CREATED:20260409T141439Z
LAST-MODIFIED:20260409T141439Z
UID:1151-1779300000-1779307200@machiaslibrary.org
SUMMARY:Weekly Sewing Circle
DESCRIPTION:Free Event. \nGroups Sew-alongs or individual projects. \nBeginners Welcome!
URL:https://machiaslibrary.org/event/weekly-sewing-circle-20/
CATEGORIES:Events
END:VEVENT
BEGIN:VEVENT
DTSTART;VALUE=DATE:20260522
DTEND;VALUE=DATE:20260526
DTSTAMP:20260423T111408
CREATED:20260107T145839Z
LAST-MODIFIED:20260325T132438Z
UID:936-1779408000-1779753599@machiaslibrary.org
SUMMARY:Closed Memorial Day weekend
DESCRIPTION:Closed for Memorial Day weekend.
URL:https://machiaslibrary.org/event/memorial-day-weekend/
CATEGORIES:Closings
END:VEVENT
BEGIN:VEVENT
DTSTART;TZID=America/New_York:20260527T180000
DTEND;TZID=America/New_York:20260527T200000
DTSTAMP:20260423T111408
CREATED:20260409T141513Z
LAST-MODIFIED:20260409T141513Z
UID:1153-1779904800-1779912000@machiaslibrary.org
SUMMARY:Weekly Sewing Circle
DESCRIPTION:Free Event. \nGroups Sew-alongs or individual projects. \nBeginners Welcome!
URL:https://machiaslibrary.org/event/weekly-sewing-circle-21/
CATEGORIES:Events
END:VEVENT
END:VCALENDAR